BEGIN:VCALENDAR
VERSION:2.0
PRODID:-// - ECPv4.9.2//NONSGML v1.0//EN
CALSCALE:GREGORIAN
METHOD:PUBLISH
X-ORIGINAL-URL:https://lacantinedu111.org
X-WR-CALDESC:Évènements pour 
BEGIN:VEVENT
DTSTART;TZID=Europe/Paris:20251214T120000
DTEND;TZID=Europe/Paris:20251214T160000
DTSTAMP:20260423T090927
CREATED:20251104T093438Z
LAST-MODIFIED:20251104T093438Z
UID:3885-1765713600-1765728000@lacantinedu111.org
SUMMARY:Brunch musical et artistique !
DESCRIPTION:Au plaisir de vous retrouver pour ce moment convivial entouré d’artistes et d’artisans talentueux ; ) \nMerci par avance à Sarah et Stéphane\, musiciens et chanteurs hors pair !  Et à Emi\, Agnès\, Lire et délire en stock et le Gem qui présenteront leurs œuvres à des fins professionnelles ou solidaires! \nRéservation conseillée pour la restauration 😉 \n\nGustativement vôtre \n
URL:https://lacantinedu111.org/index.php/event/brunch-musical-et-artistique/
LOCATION:LA CANTINE\, 111 avenue de paris\, chalons en champagne\, Marne\, 51000\, France
ATTACH;FMTTYPE=application/pdf:https://lacantinedu111.org/wp-content/uploads/2025/11/CONCERT-CANTINE-111.pdf
END:VEVENT
END:VCALENDAR