BEGIN:VCALENDAR
VERSION:2.0
PRODID:-// - ECPv4.9.2//NONSGML v1.0//EN
CALSCALE:GREGORIAN
METHOD:PUBLISH
X-ORIGINAL-URL:https://lacantinedu111.org
X-WR-CALDESC:Évènements pour 
BEGIN:VEVENT
DTSTART;TZID=Europe/Paris:20250622T113000
DTEND;TZID=Europe/Paris:20250622T170000
DTSTAMP:20260423T122501
CREATED:20250521T094013Z
LAST-MODIFIED:20250521T094013Z
UID:3734-1750591800-1750611600@lacantinedu111.org
SUMMARY:BRUNCH'ART
DESCRIPTION:
URL:https://lacantinedu111.org/index.php/event/brunchart/
LOCATION:LA CANTINE\, 111 avenue de paris\, chalons en champagne\, Marne\, 51000\, France
ATTACH;FMTTYPE=image/png:https://lacantinedu111.org/wp-content/uploads/2025/05/Affiche-Cantine-111_22juinV2.png
END:VEVENT
END:VCALENDAR