BEGIN:VCALENDAR
VERSION:2.0
PRODID:-// - ECPv4.9.2//NONSGML v1.0//EN
CALSCALE:GREGORIAN
METHOD:PUBLISH
X-ORIGINAL-URL:https://lacantinedu111.org
X-WR-CALDESC:Évènements pour 
BEGIN:VEVENT
DTSTART;TZID=Europe/Paris:20230505T190000
DTEND;TZID=Europe/Paris:20230505T230000
DTSTAMP:20260426T021954
CREATED:20230417T093022Z
LAST-MODIFIED:20230417T093022Z
UID:3017-1683313200-1683327600@lacantinedu111.org
SUMMARY:Ciné Débat  en partenariat avec le Vert solidaire!
DESCRIPTION:Venez assister à la projection du film « Tu nourriras LE MONDE »  à 20h. \nOuverture des portes avec buvette et petite restauration sur place dès 19h! \nAu plaisir! \n
URL:https://lacantinedu111.org/index.php/event/cine-debat-en-partenariat-avec-le-vert-solidaire/
LOCATION:LA CANTINE\, 111 avenue de paris\, chalons en champagne\, Marne\, 51000\, France
ATTACH;FMTTYPE=application/pdf:https://lacantinedu111.org/wp-content/uploads/2023/04/affiche-doc-débat-5-5.pdf
END:VEVENT
END:VCALENDAR