BEGIN:VCALENDAR
VERSION:2.0
PRODID:-// - ECPv4.9.2//NONSGML v1.0//EN
CALSCALE:GREGORIAN
METHOD:PUBLISH
X-ORIGINAL-URL:https://lacantinedu111.org
X-WR-CALDESC:Évènements pour 
BEGIN:VEVENT
DTSTART;TZID=Europe/Paris:20240402T120000
DTEND;TZID=Europe/Paris:20240427T143000
DTSTAMP:20260419T131646
CREATED:20240327T112001Z
LAST-MODIFIED:20240327T112001Z
UID:3408-1712059200-1714228200@lacantinedu111.org
SUMMARY:Expo de Marie Jo!
DESCRIPTION:   \n
URL:https://lacantinedu111.org/index.php/event/expo-de-marie-jo/
ATTACH;FMTTYPE=image/jpeg:https://lacantinedu111.org/wp-content/uploads/2024/03/Banc-de-sardines-1.jpg
END:VEVENT
END:VCALENDAR