BEGIN:VCALENDAR
VERSION:2.0
PRODID:-// - ECPv4.9.2//NONSGML v1.0//EN
CALSCALE:GREGORIAN
METHOD:PUBLISH
X-ORIGINAL-URL:https://lacantinedu111.org
X-WR-CALDESC:Évènements pour 
BEGIN:VEVENT
DTSTART;TZID=Europe/Paris:20190709T080000
DTEND;TZID=Europe/Paris:20190719T170000
DTSTAMP:20260419T132943
CREATED:20190709T122921Z
LAST-MODIFIED:20190709T122921Z
UID:1356-1562659200-1563555600@lacantinedu111.org
SUMMARY:Expo de Yannick Lefere jusqu'au 19 juillet !
DESCRIPTION:Venez admirer les œuvres de Yannick\, adhérente de la cantine et artiste peintre talentueuse! \nMerci pour cette exposition qui nous fait voyager ! \n \n
URL:https://lacantinedu111.org/index.php/event/expo-de-yannick-lefere-jusquau-19-juillet/
LOCATION:LA CANTINE\, 111 avenue de paris\, chalons en champagne\, Marne\, 51000\, France
CATEGORIES:Événements ponctuel
ATTACH;FMTTYPE=image/jpeg:https://lacantinedu111.org/wp-content/uploads/2019/07/IMG_20190709_133107_resized_20190709_021958911.jpg
END:VEVENT
END:VCALENDAR