BEGIN:VCALENDAR
VERSION:2.0
PRODID:-// - ECPv4.9.2//NONSGML v1.0//EN
CALSCALE:GREGORIAN
METHOD:PUBLISH
X-ORIGINAL-URL:https://lacantinedu111.org
X-WR-CALDESC:Évènements pour 
BEGIN:VEVENT
DTSTART;TZID=Europe/Paris:20250902T120000
DTEND;TZID=Europe/Paris:20250926T143000
DTSTAMP:20260423T104226
CREATED:20250901T081058Z
LAST-MODIFIED:20250901T081058Z
UID:3833-1756814400-1758897000@lacantinedu111.org
SUMMARY:Exposition Eric
DESCRIPTION:
URL:https://lacantinedu111.org/index.php/event/exposition-eric/
ATTACH;FMTTYPE=application/pdf:https://lacantinedu111.org/wp-content/uploads/2025/09/Affiche_Expo_Eric_Delaby-20250830.pdf
END:VEVENT
END:VCALENDAR