BEGIN:VCALENDAR
VERSION:2.0
PRODID:-// - ECPv4.9.2//NONSGML v1.0//EN
CALSCALE:GREGORIAN
METHOD:PUBLISH
X-ORIGINAL-URL:https://lacantinedu111.org
X-WR-CALDESC:Évènements pour 
BEGIN:VEVENT
DTSTART;TZID=Europe/Paris:20190621T080000
DTEND;TZID=Europe/Paris:20190621T170000
DTSTAMP:20260419T132222
CREATED:20190620T060101Z
LAST-MODIFIED:20190620T060102Z
UID:1295-1561104000-1561136400@lacantinedu111.org
SUMMARY:Festival des routes de la soie Rive Gauche
DESCRIPTION:Dans le cadre de ce festival interculturel\, la cantine du 111 s’associe et va cuisiner avec une dizaine d’habitants 1500 mets du monde ! \nL’assiette composée de chaussons variés\, pains roulés au fromage\, khachapuri\, baklava\, de thé à la menthe et de bonne humeur sera servie au pied de la tour d’Orléans le 21 juin à midi et simultanément à la cantine du 111! \nA l’occasion\, notre triporteur sera de sorti pour proposer ces saveurs orientales 😉 \nGustativement vôtre! \n
URL:https://lacantinedu111.org/index.php/event/festival-des-routes-de-la-soie-rive-gauche/
LOCATION:LA CANTINE\, 111 avenue de paris\, chalons en champagne\, Marne\, 51000\, France
CATEGORIES:Événements ponctuel
ATTACH;FMTTYPE=image/jpeg:https://lacantinedu111.org/wp-content/uploads/2019/06/thumbnail_IMG_20190620_075207_resized_20190620_075327331-e1561010451134.jpg
END:VEVENT
END:VCALENDAR