BEGIN:VCALENDAR
VERSION:2.0
PRODID:-// - ECPv4.9.2//NONSGML v1.0//EN
CALSCALE:GREGORIAN
METHOD:PUBLISH
X-ORIGINAL-URL:https://lacantinedu111.org
X-WR-CALDESC:Évènements pour 
BEGIN:VEVENT
DTSTART;TZID=Europe/Paris:20250502T180000
DTEND;TZID=Europe/Paris:20250502T233000
DTSTAMP:20260423T161805
CREATED:20250424T134441Z
LAST-MODIFIED:20250424T134442Z
UID:3728-1746208800-1746228600@lacantinedu111.org
SUMMARY:FESTIVAL HIP HOP
DESCRIPTION:
URL:https://lacantinedu111.org/index.php/event/festival-hip-hop/
ATTACH;FMTTYPE=image/jpeg:https://lacantinedu111.org/wp-content/uploads/2025/04/CamScanner-24-04-2025-15.15.jpg
END:VEVENT
END:VCALENDAR