BEGIN:VCALENDAR
VERSION:2.0
PRODID:-// - ECPv4.9.2//NONSGML v1.0//EN
CALSCALE:GREGORIAN
METHOD:PUBLISH
X-ORIGINAL-URL:https://lacantinedu111.org
X-WR-CALDESC:Évènements pour 
BEGIN:VEVENT
DTSTART;TZID=Europe/Paris:20200715T080000
DTEND;TZID=Europe/Paris:20200717T170000
DTSTAMP:20260420T191242
CREATED:20200710T082320Z
LAST-MODIFIED:20200710T082321Z
UID:1781-1594800000-1595005200@lacantinedu111.org
SUMMARY:Menu du 15 au 17 juillet 2020!
DESCRIPTION:
URL:https://lacantinedu111.org/index.php/event/menu-du-15-au-17-juillet-2020/
LOCATION:LA CANTINE\, 111 avenue de paris\, chalons en champagne\, Marne\, 51000\, France
ATTACH;FMTTYPE=image/jpeg:https://lacantinedu111.org/wp-content/uploads/2020/07/thumbnail_Menu-pique-nique-3.jpg
END:VEVENT
END:VCALENDAR