BEGIN:VCALENDAR
VERSION:2.0
PRODID:-// - ECPv4.9.2//NONSGML v1.0//EN
CALSCALE:GREGORIAN
METHOD:PUBLISH
X-ORIGINAL-URL:https://lacantinedu111.org
X-WR-CALDESC:Évènements pour 
BEGIN:VEVENT
DTSTART;TZID=Europe/Paris:20200720T120000
DTEND;TZID=Europe/Paris:20200722T143000
DTSTAMP:20260420T210651
CREATED:20200717T074852Z
LAST-MODIFIED:20200717T074939Z
UID:1785-1595246400-1595428200@lacantinedu111.org
SUMMARY:Menu du 20 au 22 juillet
DESCRIPTION:Voyage culinaire assuré ! \n
URL:https://lacantinedu111.org/index.php/event/menu-du-20-au-24-juillet/
LOCATION:LA CANTINE\, 111 avenue de paris\, chalons en champagne\, Marne\, 51000\, France
ATTACH;FMTTYPE=application/pdf:https://lacantinedu111.org/wp-content/uploads/2020/07/menu-pique-nique-3-20-juillet.pdf
END:VEVENT
END:VCALENDAR