BEGIN:VCALENDAR
VERSION:2.0
PRODID:-// - ECPv4.9.2//NONSGML v1.0//EN
CALSCALE:GREGORIAN
METHOD:PUBLISH
X-ORIGINAL-URL:https://lacantinedu111.org
X-WR-CALDESC:Évènements pour 
BEGIN:VEVENT
DTSTART;TZID=Europe/Paris:20190617T080000
DTEND;TZID=Europe/Paris:20190628T170000
DTSTAMP:20260419T164329
CREATED:20190617T134408Z
LAST-MODIFIED:20190617T135102Z
UID:1279-1560758400-1561741200@lacantinedu111.org
SUMMARY:Madame DUBOIS expose ses portraits de femmes de 1900  mais pas que !
DESCRIPTION:Madame DUBOIS\, adhérente de la cantine et fidèle cliente a le plaisir de nous faire partager ses œuvres à la cantine pendant 2 semaines! \nAdmirez le talent et laissez vous porter par la rêverie ! \n \n
URL:https://lacantinedu111.org/index.php/event/portrait-de-femmes-de-1900-de-madame-dubois/
LOCATION:LA CANTINE\, 111 avenue de paris\, chalons en champagne\, Marne\, 51000\, France
CATEGORIES:Événements ponctuel
ATTACH;FMTTYPE=image/jpeg:https://lacantinedu111.org/wp-content/uploads/2019/06/thumbnail_IMG_20190617_152748_resized_20190617_033200187.jpg
END:VEVENT
END:VCALENDAR