BEGIN:VCALENDAR
VERSION:2.0
PRODID:-// - ECPv4.9.2//NONSGML v1.0//EN
CALSCALE:GREGORIAN
METHOD:PUBLISH
X-ORIGINAL-URL:https://lacantinedu111.org
X-WR-CALDESC:Évènements pour 
BEGIN:VEVENT
DTSTART;TZID=Europe/Paris:20211108T120000
DTEND;TZID=Europe/Paris:20211130T143000
DTSTAMP:20260420T111945
CREATED:20211027T073603Z
LAST-MODIFIED:20211027T073603Z
UID:2056-1636372800-1638282600@lacantinedu111.org
SUMMARY:Expo de peinture de Pierre MAITROT
DESCRIPTION:Expo de Pierre MAITROT \n\n« Il tire son inspiration de l’amour qu’il porte à la nature.\nSi possible que rien ni personne ne vienne surtout la troubler.\nA peine esquisse-t-il\,ici\, une masure\, là\, la silhouette d’un oiseau.\nSes paysages sont imaginaires. Son seul souci est de créer une ambiance\, de susciter une émotion\, à charge pour le visiteur de parachever le tableau\, de s’y projeter et d’y déceler par lui-même ce qu’il souhaite y trouver.\nPour Paul Eluard : « La terre est bleue comme une orange ».\nChez Pierre Maitrot\, un citron serait peint en rouge si cela devait conduire à l’harmonie sur la toile et permettre de toucher l’observateur. » \n  \n
URL:https://lacantinedu111.org/index.php/event/expo-de-peinture-de-pierre-maitrot/
LOCATION:LA CANTINE\, 111 avenue de paris\, chalons en champagne\, Marne\, 51000\, France
ATTACH;FMTTYPE=image/jpeg:https://lacantinedu111.org/wp-content/uploads/2021/10/20211026_1747401.jpg
END:VEVENT
BEGIN:VEVENT
DTSTART;TZID=Europe/Paris:20211129T120000
DTEND;TZID=Europe/Paris:20211218T143000
DTSTAMP:20260420T111945
CREATED:20211115T100712Z
LAST-MODIFIED:20211115T100712Z
UID:2069-1638187200-1639837800@lacantinedu111.org
SUMMARY:EXPO NO HELL
DESCRIPTION:L’expo de No hell est une exposition sur la période de noël\, ou le père no hell fait des trainées de charbon dans le ciel\, accompagné de tic tac le corbac qui croasse le temps qui passe …et de Remy brancard \, l’homme orchestre à la guitare… il Monsieur solitude repeint tout en noir . Une expo faites d’art récups en tout genres pour les petits et les grands.\n\nMerci Mike allias Monsieur Solitude\n\n\n\n\n
URL:https://lacantinedu111.org/index.php/event/expo-no-hell/
LOCATION:LA CANTINE\, 111 avenue de paris\, chalons en champagne\, Marne\, 51000\, France
ATTACH;FMTTYPE=image/jpeg:https://lacantinedu111.org/wp-content/uploads/2021/11/IMG_20160826_162749.jpg
END:VEVENT
END:VCALENDAR