BEGIN:VCALENDAR
VERSION:2.0
PRODID:-// - ECPv4.9.2//NONSGML v1.0//EN
CALSCALE:GREGORIAN
METHOD:PUBLISH
X-ORIGINAL-URL:https://lacantinedu111.org
X-WR-CALDESC:Évènements pour 
BEGIN:VEVENT
DTSTART;TZID=Europe/Paris:20220110T120000
DTEND;TZID=Europe/Paris:20220131T150000
DTSTAMP:20260425T150611
CREATED:20220104T100119Z
LAST-MODIFIED:20220104T100908Z
UID:2170-1641816000-1643641200@lacantinedu111.org
SUMMARY:Expo de Lolita !
DESCRIPTION:On ne vous la présente plus\, Lolita\, cette artiste talentueuse de Châlons en Champagne\, mais on vous présente ses œuvres à la Cantine du 111 du 10 au 31 janvier! \nhttps://www.instagram.com/lolita_fb  \nAlors n’hésitez plus\, venez manger et contempler\, du bon goût et un peu de tendresse dans ce monde de brutes ça fait du bien ; ) \nAu plaisir! \n
URL:https://lacantinedu111.org/index.php/event/expo-de-lolita/
LOCATION:LA CANTINE\, 111 avenue de paris\, chalons en champagne\, Marne\, 51000\, France
ATTACH;FMTTYPE=image/jpeg:https://lacantinedu111.org/wp-content/uploads/2022/01/afficheA3RVB-LOLITA111.jpg
END:VEVENT
END:VCALENDAR