BEGIN:VCALENDAR
VERSION:2.0
PRODID:-// - ECPv4.9.2//NONSGML v1.0//EN
CALSCALE:GREGORIAN
METHOD:PUBLISH
X-ORIGINAL-URL:https://lacantinedu111.org
X-WR-CALDESC:Évènements pour 
BEGIN:VEVENT
DTSTART;TZID=Europe/Paris:20221003T120000
DTEND;TZID=Europe/Paris:20221031T143000
DTSTAMP:20260426T035937
CREATED:20220929T133133Z
LAST-MODIFIED:20220929T133133Z
UID:2524-1664798400-1667226600@lacantinedu111.org
SUMMARY:Nos produits locaux à l'honneur grâce à l'expo de Dom
DESCRIPTION:Cette exposition photo est l’occasion de mettre en avant nos beaux produits locaux avec lesquels nous travaillons chaque jour et indirectement\, cette manifestation est l’occasion de remercier nos producteurs\, éleveurs et maraîchers de la Régions que nous chérissons tant! \n  \n\nMerci à eux et à Dom d’avoir su souligner la beauté de ces produits 😉 \n
URL:https://lacantinedu111.org/index.php/event/nos-produits-locaux-a-lhonneur-grace-a-lexpo-de-dom/
ATTACH;FMTTYPE=image/jpeg:https://lacantinedu111.org/wp-content/uploads/2022/09/IMG_0391r.jpg
END:VEVENT
BEGIN:VEVENT
DTSTART;TZID=Europe/Paris:20221014T080000
DTEND;TZID=Europe/Paris:20221016T170000
DTSTAMP:20260426T035937
CREATED:20220920T080516Z
LAST-MODIFIED:20220920T080516Z
UID:2508-1665734400-1665939600@lacantinedu111.org
SUMMARY:Forum national des cafés associatifs-Cantine FERMEE
DESCRIPTION:En tant qu’adhérente du  réseau des cafés associatifs et culturels de France\, La cantine organise une formation collective du 14 au 16 octobre 2022 avec le CREFAD et sera donc fermée au public pour l’occasion. \nveuillez nous excuser mais il est essentiel de se former\, de se déformer\, d’échanger sur les pratiques des uns et les modèles des autres pour s’enrichir encore et encore et mieux vous servir 😉 \n
URL:https://lacantinedu111.org/index.php/event/forum-national-des-cafes-associatifs-cantine-fermee/
ATTACH;FMTTYPE=application/pdf:https://lacantinedu111.org/wp-content/uploads/2022/09/affichette-forum-22.pdf
END:VEVENT
END:VCALENDAR