BEGIN:VCALENDAR
VERSION:2.0
PRODID:-// - ECPv4.9.2//NONSGML v1.0//EN
CALSCALE:GREGORIAN
METHOD:PUBLISH
X-ORIGINAL-URL:https://lacantinedu111.org
X-WR-CALDESC:Évènements pour 
BEGIN:VEVENT
DTSTART;TZID=Europe/Paris:20221102T120000
DTEND;TZID=Europe/Paris:20221202T143000
DTSTAMP:20260426T021908
CREATED:20220922T091446Z
LAST-MODIFIED:20220922T091446Z
UID:2512-1667390400-1669991400@lacantinedu111.org
SUMMARY:EXPO Dom et VANESS'
DESCRIPTION:Humour et fantaisie (beaucoup… 😉) et aucune prétention.\nMes dessins sont justes un defouloir\, un exutoire. L’important est de s’exprimer\, peu importe le support (BD\, fusain\, toiles\, encre de Chine…) Et plaques d’ égouts ! ( et oui\, c’ est moi…)\nAvec ma copine Vaness (les p’tites illus de Vaness) ma « collègue en dessinage » nous vous présentons notre bonne humeur et nos délires en croquis. \n  \n\nLégèreté et talents au rendez-vous\, n’hésitez pas à venir apprécier les œuvres de Dominique et Vanessa pour égayer votre automne !\n
URL:https://lacantinedu111.org/index.php/event/expo-dom-et-vaness/
LOCATION:LA CANTINE\, 111 avenue de paris\, chalons en champagne\, Marne\, 51000\, France
ATTACH;FMTTYPE=image/jpeg:https://lacantinedu111.org/wp-content/uploads/2022/09/FB_IMG_1663836301089.jpg
END:VEVENT
END:VCALENDAR