BEGIN:VCALENDAR
VERSION:2.0
PRODID:-// - ECPv4.9.2//NONSGML v1.0//EN
CALSCALE:GREGORIAN
METHOD:PUBLISH
X-ORIGINAL-URL:https://lacantinedu111.org
X-WR-CALDESC:Évènements pour 
BEGIN:VEVENT
DTSTART;TZID=Europe/Paris:20221202T120000
DTEND;TZID=Europe/Paris:20221222T143000
DTSTAMP:20260426T003953
CREATED:20221110T102732Z
LAST-MODIFIED:20221110T102732Z
UID:2642-1669982400-1671719400@lacantinedu111.org
SUMMARY:Expo de Jibé!
DESCRIPTION:Grandiose! \nVenez découvrir ou redécouvrir les œuvres de Jibé qu’on ne vous présente plus ; )    \n
URL:https://lacantinedu111.org/index.php/event/expo-de-jibe/
LOCATION:LA CANTINE\, 111 avenue de paris\, chalons en champagne\, Marne\, 51000\, France
ATTACH;FMTTYPE=image/jpeg:https://lacantinedu111.org/wp-content/uploads/2022/11/image00000413.jpg
END:VEVENT
BEGIN:VEVENT
DTSTART;TZID=Europe/Paris:20221216T180000
DTEND;TZID=Europe/Paris:20221216T233000
DTSTAMP:20260426T003953
CREATED:20221121T125928Z
LAST-MODIFIED:20221121T125928Z
UID:2662-1671213600-1671233400@lacantinedu111.org
SUMMARY:Soirée festive de fin d'année!
DESCRIPTION:Pour le plaisir de tous et pour clôturer cette année 2022 ensemble on vous propose une soirée avec plusieurs invités! \nAu programme dès 18 h: remise des paniers culturels avec l’association ACALMI et présence des artistes qui ont composé ces paniers  \nDès 19h: spectacle de Guillaume Beaufort…on n’en dit pas plus ; ) \nEt après 21h\, on danse grâce à DJ SEZ! \nPetite restauration sur place évidemment! \nAu plaisir de vous retrouver autour de ce moment de convivialité et d’artistes talentueux 🙂 \n  \n
URL:https://lacantinedu111.org/index.php/event/soiree-festive-de-fin-dannee/
LOCATION:LA CANTINE\, 111 avenue de paris\, chalons en champagne\, Marne\, 51000\, France
ATTACH;FMTTYPE=image/jpeg:https://lacantinedu111.org/wp-content/uploads/2022/11/20221121_135411.jpg
END:VEVENT
END:VCALENDAR