BEGIN:VCALENDAR
VERSION:2.0
PRODID:-// - ECPv4.9.2//NONSGML v1.0//EN
CALSCALE:GREGORIAN
METHOD:PUBLISH
X-ORIGINAL-URL:https://lacantinedu111.org
X-WR-CALDESC:Évènements pour 
BEGIN:VEVENT
DTSTART;VALUE=DATE:20230310
DTEND;VALUE=DATE:20230801
DTSTAMP:20260426T035825
CREATED:20230308T133436Z
LAST-MODIFIED:20230310T083119Z
UID:2902-1678406400-1690847999@lacantinedu111.org
SUMMARY:NEWSLETTER Second trimestre
DESCRIPTION:lettre information mars 2023 bis \n
URL:https://lacantinedu111.org/index.php/event/newsletter-second-trimestre/
LOCATION:LA CANTINE\, 111 avenue de paris\, chalons en champagne\, Marne\, 51000\, France
END:VEVENT
BEGIN:VEVENT
DTSTART;TZID=Europe/Paris:20230615T120000
DTEND;TZID=Europe/Paris:20230704T143000
DTSTAMP:20260426T035825
CREATED:20230602T082438Z
LAST-MODIFIED:20230602T082438Z
UID:3031-1686830400-1688481000@lacantinedu111.org
SUMMARY:EXPO DE L ECOLE DU MAU : )
DESCRIPTION:« « Ce n’est pas la lecture qui est en danger\, ce sont les illettrés. »\nYvan Pommaux  \nUne exposition pas comme les autres\ndans un restaurant pas comme les autres \nLa lecture est au cœur de cette exposition intitulée « Portraits de lecteurs ». Réalisée par les élèves de CP et CE1 de l’école du Mau de Châlons-en-Champagne\, elle nous invite à afficher notre rapport à la lecture.\nTout au long de l’année scolaire\, de nombreux échanges autour de la lecture ont eu lieu entre les élèves de l’école du Mau au sein de la BCD de leur école ainsi qu’à la bibliothèque municipale Pompidou mais aussi dans les familles. Des photos ont été prises\, d’enfants et d’adultes\, dans leurs positions favorites de lecture et ces photos ont été retravaillées artistiquement avec des filtres ou des collages.\nDe ces moments partagés\, quelques instants figés hauts en couleur vous sont offerts à la Cantine du Cent Onze\, un restaurant pas comme les autres\, du 15 juin au 4 juillet 2023 tous les mardis\, mercredis\, jeudis et vendredis de 12h à 14h30.\nC’est une exposition savoureuse\, relaxante\, sur un sujet trop peu mis en avant alors que les enjeux sont essentiels pour chacun (….). \nC’est donc tout naturellement que le travail de l’école du Mau a trouvé sa place dans ce lieu de solidarité. Ce restaurant associatif\, à travers ses activités\, est un exemple de valeurs citoyennes pour les élèves. L’école est reconnaissante à Julie Dupin\, l’une des fondatrices de la Cantine 111\, ainsi qu’à toute son équipe de l’accueillir dans leur local. \nÀ la Cantine du 111\, vous pourrez flâner pour découvrir cette exposition du 15 juin au 4 juillet et vous restaurer si vous le souhaitez. »* \n  \n*Article réalisé pour l’Union par les professeurs de l’école du MAU \n  \nUN GRAND MERCI AUX ELEVES ET A LEURS MAITRESSES POUR LEURS TRAVAUX! BRAVO! \n  \n
URL:https://lacantinedu111.org/index.php/event/expo-de-l-ecole-du-mau/
LOCATION:LA CANTINE\, 111 avenue de paris\, chalons en champagne\, Marne\, 51000\, France
ATTACH;FMTTYPE=application/pdf:https://lacantinedu111.org/wp-content/uploads/2023/06/article-affiche-expo-1.pdf
END:VEVENT
END:VCALENDAR