BEGIN:VCALENDAR
VERSION:2.0
PRODID:-// - ECPv4.9.2//NONSGML v1.0//EN
CALSCALE:GREGORIAN
METHOD:PUBLISH
X-ORIGINAL-URL:https://lacantinedu111.org
X-WR-CALDESC:Évènements pour 
BEGIN:VEVENT
DTSTART;TZID=Europe/Paris:20231005T120000
DTEND;TZID=Europe/Paris:20231028T143000
DTSTAMP:20260420T093816
CREATED:20231005T080350Z
LAST-MODIFIED:20231005T080350Z
UID:3211-1696507200-1698503400@lacantinedu111.org
SUMMARY:Expo UEAJ d'Epernay
DESCRIPTION:     \n
URL:https://lacantinedu111.org/index.php/event/expo-ueaj-depernay/
LOCATION:LA CANTINE\, 111 avenue de paris\, chalons en champagne\, Marne\, 51000\, France
ATTACH;FMTTYPE=image/jpeg:https://lacantinedu111.org/wp-content/uploads/2023/10/20231005_090116.jpg
END:VEVENT
END:VCALENDAR