BEGIN:VCALENDAR
VERSION:2.0
PRODID:-// - ECPv4.9.2//NONSGML v1.0//EN
CALSCALE:GREGORIAN
METHOD:PUBLISH
X-ORIGINAL-URL:https://lacantinedu111.org
X-WR-CALDESC:Évènements pour 
BEGIN:VEVENT
DTSTART;TZID=Europe/Paris:20240129T120000
DTEND;TZID=Europe/Paris:20240223T143000
DTSTAMP:20260420T094435
CREATED:20240129T104615Z
LAST-MODIFIED:20240129T104640Z
UID:3349-1706529600-1708698600@lacantinedu111.org
SUMMARY:Expo engagée!
DESCRIPTION:
URL:https://lacantinedu111.org/index.php/event/expo-engagee/
LOCATION:LA CANTINE\, 111 avenue de paris\, chalons en champagne\, Marne\, 51000\, France
ATTACH;FMTTYPE=image/jpeg:https://lacantinedu111.org/wp-content/uploads/2024/01/affiche-expo-ARMAND.jpg
END:VEVENT
END:VCALENDAR